BEGIN:VCALENDAR
VERSION:2.0
PRODID:-// - ECPv6.15.20//NONSGML v1.0//EN
CALSCALE:GREGORIAN
METHOD:PUBLISH
X-ORIGINAL-URL:https://pstribune.com
X-WR-CALDESC:Events for 
REFRESH-INTERVAL;VALUE=DURATION:PT1H
X-Robots-Tag:noindex
X-PUBLISHED-TTL:PT1H
BEGIN:VTIMEZONE
TZID:America/Los_Angeles
BEGIN:DAYLIGHT
TZOFFSETFROM:-0800
TZOFFSETTO:-0700
TZNAME:PDT
DTSTART:20250309T100000
END:DAYLIGHT
BEGIN:STANDARD
TZOFFSETFROM:-0700
TZOFFSETTO:-0800
TZNAME:PST
DTSTART:20251102T090000
END:STANDARD
BEGIN:DAYLIGHT
TZOFFSETFROM:-0800
TZOFFSETTO:-0700
TZNAME:PDT
DTSTART:20260308T100000
END:DAYLIGHT
BEGIN:STANDARD
TZOFFSETFROM:-0700
TZOFFSETTO:-0800
TZNAME:PST
DTSTART:20261101T090000
END:STANDARD
BEGIN:DAYLIGHT
TZOFFSETFROM:-0800
TZOFFSETTO:-0700
TZNAME:PDT
DTSTART:20270314T100000
END:DAYLIGHT
BEGIN:STANDARD
TZOFFSETFROM:-0700
TZOFFSETTO:-0800
TZNAME:PST
DTSTART:20271107T090000
END:STANDARD
END:VTIMEZONE
BEGIN:VEVENT
DTSTART;TZID=America/Los_Angeles:20260424T130000
DTEND;TZID=America/Los_Angeles:20260426T000000
DTSTAMP:20260421T011320
CREATED:20260415T201854Z
LAST-MODIFIED:20260415T201854Z
UID:10000479-1777035600-1777161600@pstribune.com
SUMMARY:Monster Energy Powers Stagecoach\, Meet & Greet with Redferrin
DESCRIPTION:Monster Energy returns to the desert as the Official Energy Drink Partner of Stagecoach 2026\, once again powering country’s legendary festival weekend. \nTaking place April 24-26\, 2026\, at the Empire Polo Club in Indio\, California\, Monster Energy is set to fuel festivalgoers all weekend long\, delivering an energy boost to fans looking to keep the party going from sunrise to the last set. \nThis year\, Monster Energy is elevating its on-site presence with two distinct immersive brand experiences. \nAt the center of it all is Monster Energy HQ\, a high-energy hub in the main festival grounds featuring live DJs\, line dancing\, a photobooth and appearances from the famed Monster Girls. Located between 12 Peaks and the Rhinestone Saloon\, the space will also serve as a refreshing and revitalizing oasis where attendees will be among the first in the country to taste Monster’s newest flavor\, Juice Monster Strawberry Lemonade\, along with Monster’s other new patriotic release celebrating America’s 250th: Monster Ultra Red White & Blue Razz. \nMonster Energy country artist Redferrin\, who is making his Stagecoach T-Mobile Mane Stage debut on Saturday\, will also stop by Monster’s activation after his big performance for a special meet & greet with fans. On Sunday\, music lovers can expect a surprise DJ set from a very special guest\, adding another can’t-miss moment to the weekend. \n“Y’all I’m sure excited to see you out at Stagecoach\, we’re playing the Mane Stage and we gonna have ourselves a time\,” said Redferrin. “Come party with us and stop by to see me at the Monster HQ tent after our set!” \nMeanwhile in the campgrounds\, Java Monster will host The Coffee Grounds — a secondary activation designed for early risers and the non-stop committed campers\, featuring product sampling\, exclusive programming\, custom swag… and much more! \nStay tuned as Monster Energy takes over Stagecoach 2026 — fuel up and we’ll see you in the desert. \nFor more information\, visit http://www.monsterenergy.com.
URL:https://pstribune.com/event/monster-energy-powers-stagecoach-meet-greet-with-redferrin/
LOCATION:Empire Polo Club\, 81-800 51st Ave\, Indio\, 92201\, United States
ATTACH;FMTTYPE=image/png:https://pstribune.com/wp-content/uploads/2026/04/Screenshot-2026-04-15-at-11.57.36-AM-1.png
END:VEVENT
END:VCALENDAR